BEGIN:VCALENDAR
VERSION:2.0
PRODID:-//Berlin Leder und Fetisch e.V.  - ECPv6.15.18//NONSGML v1.0//EN
CALSCALE:GREGORIAN
METHOD:PUBLISH
X-ORIGINAL-URL:https://blf.de
X-WR-CALDESC:Veranstaltungen für Berlin Leder und Fetisch e.V. 
REFRESH-INTERVAL;VALUE=DURATION:PT1H
X-Robots-Tag:noindex
X-PUBLISHED-TTL:PT1H
BEGIN:VTIMEZONE
TZID:Europe/Berlin
BEGIN:DAYLIGHT
TZOFFSETFROM:+0100
TZOFFSETTO:+0200
TZNAME:CEST
DTSTART:20240331T010000
END:DAYLIGHT
BEGIN:STANDARD
TZOFFSETFROM:+0200
TZOFFSETTO:+0100
TZNAME:CET
DTSTART:20241027T010000
END:STANDARD
BEGIN:DAYLIGHT
TZOFFSETFROM:+0100
TZOFFSETTO:+0200
TZNAME:CEST
DTSTART:20250330T010000
END:DAYLIGHT
BEGIN:STANDARD
TZOFFSETFROM:+0200
TZOFFSETTO:+0100
TZNAME:CET
DTSTART:20251026T010000
END:STANDARD
BEGIN:DAYLIGHT
TZOFFSETFROM:+0100
TZOFFSETTO:+0200
TZNAME:CEST
DTSTART:20260329T010000
END:DAYLIGHT
BEGIN:STANDARD
TZOFFSETFROM:+0200
TZOFFSETTO:+0100
TZNAME:CET
DTSTART:20261025T010000
END:STANDARD
END:VTIMEZONE
BEGIN:VEVENT
DTSTART;TZID=Europe/Berlin:20250208T170000
DTEND;TZID=Europe/Berlin:20250208T200000
DTSTAMP:20260424T105107
CREATED:20250204T203832Z
LAST-MODIFIED:20250204T204959Z
UID:7565-1739034000-1739044800@blf.de
SUMMARY:BLUE HOUR Samstag\, 8. Februar 2025 - 17 Uhr @ SEGUNDA CASA
DESCRIPTION:Fetish Cocktail @ SEGUNDA CASA\nMale.Space ladet Euch ein zur ersten BLUE HOUR\, unserem beliebten Fetish Cocktail.  \nGenießt coole Drinks und mit einer riesigen Gruppe von Leder- und Fetischkerlen. \n  \nCome by to have a Drink with hundreds of other Fetishmen right before the THE LEATHER DINNER XXL. \n 
URL:https://blf.de/event/blue-hour-samstag-8-februar-2025-17-uhr-segunda-casa/
LOCATION:Segunda Casa\, Eisenacher Str. 2\, Berlin\, Berlin\, 10777\, Germany
CATEGORIES:EasterBerlin 2024,Partner Event
ATTACH;FMTTYPE=image/png:https://blf.de/wp-content/uploads/2025/02/IG_Beitrag2_BLUEHOUR_II_BWII2025-1.png
END:VEVENT
END:VCALENDAR